BEGIN:VCALENDAR
VERSION:2.0
PRODID:-//California Fire Technology Directors - ECPv6.15.20//NONSGML v1.0//EN
CALSCALE:GREGORIAN
METHOD:PUBLISH
X-ORIGINAL-URL:https://www.cftda.com
X-WR-CALDESC:Events for California Fire Technology Directors
REFRESH-INTERVAL;VALUE=DURATION:PT1H
X-Robots-Tag:noindex
X-PUBLISHED-TTL:PT1H
BEGIN:VTIMEZONE
TZID:America/Los_Angeles
BEGIN:DAYLIGHT
TZOFFSETFROM:-0800
TZOFFSETTO:-0700
TZNAME:PDT
DTSTART:20250309T100000
END:DAYLIGHT
BEGIN:STANDARD
TZOFFSETFROM:-0700
TZOFFSETTO:-0800
TZNAME:PST
DTSTART:20251102T090000
END:STANDARD
BEGIN:DAYLIGHT
TZOFFSETFROM:-0800
TZOFFSETTO:-0700
TZNAME:PDT
DTSTART:20260308T100000
END:DAYLIGHT
BEGIN:STANDARD
TZOFFSETFROM:-0700
TZOFFSETTO:-0800
TZNAME:PST
DTSTART:20261101T090000
END:STANDARD
BEGIN:DAYLIGHT
TZOFFSETFROM:-0800
TZOFFSETTO:-0700
TZNAME:PDT
DTSTART:20270314T100000
END:DAYLIGHT
BEGIN:STANDARD
TZOFFSETFROM:-0700
TZOFFSETTO:-0800
TZNAME:PST
DTSTART:20271107T090000
END:STANDARD
END:VTIMEZONE
BEGIN:VEVENT
DTSTART;VALUE=DATE:20260319
DTEND;VALUE=DATE:20260320
DTSTAMP:20260422T061641
CREATED:20250924T014138Z
LAST-MODIFIED:20260318T030846Z
UID:10000388-1773878400-1773964799@www.cftda.com
SUMMARY:CFTDA Meeting - Fresno
DESCRIPTION:Updated March 17\, 2026\nClick the link to be taken to the meeting documents in the members area. \n  \n \n\nUpdated: Feb. 19\, 2026\nTentative plan for CPL workshop during the next meeting.\n\nLoad all CFTDA members in the MAP CPL platform as “initiators” for their colleges.\n\n\nConduct a “Fingers-on Training” (FOT) session for 2 hours after lunch to walk each college through the log in\, query\, and adoption process of currently approved CCC MAP Fire Technology (and EMS\, and Wildland) exhibits into their college for CPL award for students.\n\n\nAnswer all questions and concerns of CFTDA members about their internal district CPL processes\, obstacles and impacts.\nDisplay the process in a screen share for members attending on Zoom\, and help troubleshoot CPL adoption issues.\n\nMy ask is this: \n\nDesignation of 2 hours after lunch for this team.\n\n\nThe email’s of all attendees (or members) prior to the meeting\, who would like to have a MAP CPL “Initiator” access log in.\n\n\nA means to break up the entire meeting room into groups so that CPL can meet and assist these groups in the FOT session.\n\n\nRequest of all attendees to bring their laptops to the FOT session.\nLogistical items to support group computer access (Power sources\, extension cords\, internet bandwidth).\n\nI know this is a heavy lift\, and I am willing to do whatever I can to make this happen. I feel this event would  tie in nicely to the entire “Conference” motif of the Fresno experience. \nI am thanking you all for your consideration of this request! \nRichard Beckman \nAdjunct Faculty \nFire Technology \n\nUpdated: Feb. 6\, 2026\nHotel Room Confirmation Link: Please complete by Feb. 22\, 2026\nPlease fill out the contact information and dates that you will be staying and departing. There is a text box near the bottom that says “Not Required” where you can type in CFTDA meeting or CEMESA meeting. \nPLEASE COMPLETE THIS FORM NO LATER THAN:\nSunday\, February 22\, 2026\, at 1700 hours \nForm Link: \nSep. 26\, 2025 – Update\nIf you plan on attending\, please fill out the following Google form so they can get an accurate head count. \nJust fill out the following items of the form. \n\nName\nContact Info\nSchool\nDays attending\n\nThis will allow you to get the discount rate and let the Hotel Manager get a head count.. \nThank You! \nGoogle Form Room Head Count
URL:https://www.cftda.com/event/cftda-meeting-fresno-tentative/
LOCATION:Hilton Double Tree Fresno Convention Center\, 2233 Cesar Chavez\, Fresno\, CA\, 93721\, United States
CATEGORIES:Meeting
ATTACH;FMTTYPE=image/png:https://www.cftda.com/wp-content/uploads/2019/03/cftda_logo.png
END:VEVENT
END:VCALENDAR