BEGIN:VCALENDAR
VERSION:2.0
PRODID:-//California Fire Technology Directors - ECPv6.15.20//NONSGML v1.0//EN
CALSCALE:GREGORIAN
METHOD:PUBLISH
X-ORIGINAL-URL:https://www.cftda.com
X-WR-CALDESC:Events for California Fire Technology Directors
REFRESH-INTERVAL;VALUE=DURATION:PT1H
X-Robots-Tag:noindex
X-PUBLISHED-TTL:PT1H
BEGIN:VTIMEZONE
TZID:America/Los_Angeles
BEGIN:DAYLIGHT
TZOFFSETFROM:-0800
TZOFFSETTO:-0700
TZNAME:PDT
DTSTART:20240310T100000
END:DAYLIGHT
BEGIN:STANDARD
TZOFFSETFROM:-0700
TZOFFSETTO:-0800
TZNAME:PST
DTSTART:20241103T090000
END:STANDARD
BEGIN:DAYLIGHT
TZOFFSETFROM:-0800
TZOFFSETTO:-0700
TZNAME:PDT
DTSTART:20250309T100000
END:DAYLIGHT
BEGIN:STANDARD
TZOFFSETFROM:-0700
TZOFFSETTO:-0800
TZNAME:PST
DTSTART:20251102T090000
END:STANDARD
BEGIN:DAYLIGHT
TZOFFSETFROM:-0800
TZOFFSETTO:-0700
TZNAME:PDT
DTSTART:20260308T100000
END:DAYLIGHT
BEGIN:STANDARD
TZOFFSETFROM:-0700
TZOFFSETTO:-0800
TZNAME:PST
DTSTART:20261101T090000
END:STANDARD
END:VTIMEZONE
BEGIN:VEVENT
DTSTART;VALUE=DATE:20251119
DTEND;VALUE=DATE:20251120
DTSTAMP:20260422T193415
CREATED:20250904T233815Z
LAST-MODIFIED:20251105T035004Z
UID:10000385-1763510400-1763596799@www.cftda.com
SUMMARY:CFTDA - Tour - Allan Hancock College-Lompoc
DESCRIPTION:Updated Nov. 4\, 2026\n \nAllan Hancock will be giving a tour of their facilities. \nTime TBD
URL:https://www.cftda.com/event/cftda-tour-allan-hancock-college-lompoc/
LOCATION:Allan Hancock College\, One Hancock Drive\, Lompoc\, CA\, 93436\, United States
CATEGORIES:Meeting
ATTACH;FMTTYPE=image/png:https://www.cftda.com/wp-content/uploads/allenhancock.png
END:VEVENT
END:VCALENDAR