BEGIN:VCALENDAR
VERSION:2.0
PRODID:-//California Fire Technology Directors - ECPv6.15.20//NONSGML v1.0//EN
CALSCALE:GREGORIAN
METHOD:PUBLISH
X-WR-CALNAME:California Fire Technology Directors
X-ORIGINAL-URL:https://www.cftda.com
X-WR-CALDESC:Events for California Fire Technology Directors
REFRESH-INTERVAL;VALUE=DURATION:PT1H
X-Robots-Tag:noindex
X-PUBLISHED-TTL:PT1H
BEGIN:VTIMEZONE
TZID:America/Los_Angeles
BEGIN:DAYLIGHT
TZOFFSETFROM:-0800
TZOFFSETTO:-0700
TZNAME:PDT
DTSTART:20240310T100000
END:DAYLIGHT
BEGIN:STANDARD
TZOFFSETFROM:-0700
TZOFFSETTO:-0800
TZNAME:PST
DTSTART:20241103T090000
END:STANDARD
BEGIN:DAYLIGHT
TZOFFSETFROM:-0800
TZOFFSETTO:-0700
TZNAME:PDT
DTSTART:20250309T100000
END:DAYLIGHT
BEGIN:STANDARD
TZOFFSETFROM:-0700
TZOFFSETTO:-0800
TZNAME:PST
DTSTART:20251102T090000
END:STANDARD
BEGIN:DAYLIGHT
TZOFFSETFROM:-0800
TZOFFSETTO:-0700
TZNAME:PDT
DTSTART:20260308T100000
END:DAYLIGHT
BEGIN:STANDARD
TZOFFSETFROM:-0700
TZOFFSETTO:-0800
TZNAME:PST
DTSTART:20261101T090000
END:STANDARD
END:VTIMEZONE
BEGIN:VEVENT
DTSTART;TZID=America/Los_Angeles:20251120T090000
DTEND;TZID=America/Los_Angeles:20251120T170000
DTSTAMP:20260422T152735
CREATED:20250729T162247Z
LAST-MODIFIED:20251105T035152Z
UID:10000011-1763629200-1763658000@www.cftda.com
SUMMARY:CFTDA Meeting-Allan Hancock College-Lompoc
DESCRIPTION:Updated Nov. 4\, 2025\n \nOct. 29\, 2025\nA 2nd hotel has been added. \nThe Village Inn \n3955 Apollo Way \nLompoc\, CA 93436 (805) 972-0999 \nhttps://www.villageinnca.com/ \nOct. 15\, 2025\nCFTDA Meeting Agenda Allan Hancock 11.20.25.docx \nOct. 1\, 2025 \nHotel Information: Hilton Garden Inn Lompoc \n1201 North H Street\, Lompoc\, CA.\, 93436\nCall hotel @ +1-805-735-1880 \nTell the hotel staff you are attending a conference at the Allan Hancock College Public Safety Training Complex. \nor \nClick for online booking link  \nIf there are any issues\, call John Cecena @ +1 (805) 302-2042\nThe AHC PSTC rate should be $129 they then add fees\, and the total is $146.02 per night. \n 
URL:https://www.cftda.com/event/cftda-meeting-allen-hancock-college-santa-maris/
LOCATION:Allan Hancock College\, One Hancock Drive\, Lompoc\, CA\, 93436\, United States
CATEGORIES:Meeting
ATTACH;FMTTYPE=image/png:https://www.cftda.com/wp-content/uploads/allenhancock.png
END:VEVENT
END:VCALENDAR